BEGIN:VCALENDAR
VERSION:2.0
PRODID:icalendar-ruby
CALSCALE:GREGORIAN
METHOD:PUBLISH
BEGIN:VEVENT
DTSTAMP:20260425T145624Z
UID:11-1374708@beckspurbaptist.com
DTSTART:20260902T130000Z
DTEND:20260902T130000Z
CLASS:PUBLIC
CREATED:20260425T052746
DESCRIPTION:Click Here for More Info
LAST-MODIFIED:20260425T052746
LOCATION:C.R. Smalls
SUMMARY:Men's Breakfast
URL;VALUE=URI:https://beckspurbaptist.com/events/mens-breakfast/2026-09-02
ATTACH;FILENAME=beckspur-17.jpg;FMTTYPE=image/jpeg:https://dq5pwpg1q8ru0.cl
 oudfront.net/2025/08/29/02/18/31/50992b9a-152a-4ee8-91e3-962691974859/beck
 spur-17.jpg
END:VEVENT
END:VCALENDAR
