BEGIN:VCALENDAR
VERSION:2.0
PRODID:icalendar-ruby
CALSCALE:GREGORIAN
METHOD:PUBLISH
BEGIN:VEVENT
DTSTAMP:20260423T072140Z
UID:7-1370339@beckspurbaptist.com
DTSTART:20260927T153000Z
DTEND:20260927T163000Z
CLASS:PUBLIC
CREATED:20260422T201009
DESCRIPTION:First Service
LAST-MODIFIED:20260422T201009
LOCATION:Beck Spur Baptist Church
SUMMARY:First Service
URL;VALUE=URI:https://beckspurbaptist.com/events/first-service/2026-09-27
END:VEVENT
END:VCALENDAR
